BEGIN:VCALENDAR
VERSION:2.0
PRODID:-//RacePenguin - ECPv6.15.18//NONSGML v1.0//EN
CALSCALE:GREGORIAN
METHOD:PUBLISH
X-ORIGINAL-URL:https://racepenguin.com
X-WR-CALDESC:Events for RacePenguin
REFRESH-INTERVAL;VALUE=DURATION:PT1H
X-Robots-Tag:noindex
X-PUBLISHED-TTL:PT1H
BEGIN:VTIMEZONE
TZID:America/New_York
BEGIN:DAYLIGHT
TZOFFSETFROM:-0500
TZOFFSETTO:-0400
TZNAME:EDT
DTSTART:20170312T070000
END:DAYLIGHT
BEGIN:STANDARD
TZOFFSETFROM:-0400
TZOFFSETTO:-0500
TZNAME:EST
DTSTART:20171105T060000
END:STANDARD
BEGIN:DAYLIGHT
TZOFFSETFROM:-0500
TZOFFSETTO:-0400
TZNAME:EDT
DTSTART:20180311T070000
END:DAYLIGHT
BEGIN:STANDARD
TZOFFSETFROM:-0400
TZOFFSETTO:-0500
TZNAME:EST
DTSTART:20181104T060000
END:STANDARD
BEGIN:DAYLIGHT
TZOFFSETFROM:-0500
TZOFFSETTO:-0400
TZNAME:EDT
DTSTART:20190310T070000
END:DAYLIGHT
BEGIN:STANDARD
TZOFFSETFROM:-0400
TZOFFSETTO:-0500
TZNAME:EST
DTSTART:20191103T060000
END:STANDARD
BEGIN:DAYLIGHT
TZOFFSETFROM:-0500
TZOFFSETTO:-0400
TZNAME:EDT
DTSTART:20200308T070000
END:DAYLIGHT
BEGIN:STANDARD
TZOFFSETFROM:-0400
TZOFFSETTO:-0500
TZNAME:EST
DTSTART:20201101T060000
END:STANDARD
BEGIN:DAYLIGHT
TZOFFSETFROM:-0500
TZOFFSETTO:-0400
TZNAME:EDT
DTSTART:20210314T070000
END:DAYLIGHT
BEGIN:STANDARD
TZOFFSETFROM:-0400
TZOFFSETTO:-0500
TZNAME:EST
DTSTART:20211107T060000
END:STANDARD
BEGIN:DAYLIGHT
TZOFFSETFROM:-0500
TZOFFSETTO:-0400
TZNAME:EDT
DTSTART:20220313T070000
END:DAYLIGHT
BEGIN:STANDARD
TZOFFSETFROM:-0400
TZOFFSETTO:-0500
TZNAME:EST
DTSTART:20221106T060000
END:STANDARD
BEGIN:DAYLIGHT
TZOFFSETFROM:-0500
TZOFFSETTO:-0400
TZNAME:EDT
DTSTART:20230312T070000
END:DAYLIGHT
BEGIN:STANDARD
TZOFFSETFROM:-0400
TZOFFSETTO:-0500
TZNAME:EST
DTSTART:20231105T060000
END:STANDARD
BEGIN:DAYLIGHT
TZOFFSETFROM:-0500
TZOFFSETTO:-0400
TZNAME:EDT
DTSTART:20240310T070000
END:DAYLIGHT
BEGIN:STANDARD
TZOFFSETFROM:-0400
TZOFFSETTO:-0500
TZNAME:EST
DTSTART:20241103T060000
END:STANDARD
BEGIN:DAYLIGHT
TZOFFSETFROM:-0500
TZOFFSETTO:-0400
TZNAME:EDT
DTSTART:20250309T070000
END:DAYLIGHT
BEGIN:STANDARD
TZOFFSETFROM:-0400
TZOFFSETTO:-0500
TZNAME:EST
DTSTART:20251102T060000
END:STANDARD
BEGIN:DAYLIGHT
TZOFFSETFROM:-0500
TZOFFSETTO:-0400
TZNAME:EDT
DTSTART:20260308T070000
END:DAYLIGHT
BEGIN:STANDARD
TZOFFSETFROM:-0400
TZOFFSETTO:-0500
TZNAME:EST
DTSTART:20261101T060000
END:STANDARD
BEGIN:DAYLIGHT
TZOFFSETFROM:-0500
TZOFFSETTO:-0400
TZNAME:EDT
DTSTART:20270314T070000
END:DAYLIGHT
BEGIN:STANDARD
TZOFFSETFROM:-0400
TZOFFSETTO:-0500
TZNAME:EST
DTSTART:20271107T060000
END:STANDARD
END:VTIMEZONE
BEGIN:VEVENT
DTSTART;TZID=America/New_York:20260215T080000
DTEND;TZID=America/New_York:20260215T160000
DTSTAMP:20260423T040444
CREATED:20190116T160149Z
LAST-MODIFIED:20260107T200452Z
UID:7328-1771142400-1771171200@racepenguin.com
SUMMARY:Rocks and Roots Winter Trail Series #2
DESCRIPTION:Go outside and do things!​Explore the trails with us this winter in Fleet Feet’s 12th annual Rocks and Roots Winter Trail Series in January and February! Choose from distances of 10K\, 20K\, 30K\, 40K\, or 50K at both dates. \n\n\n\nOpt to run just one of the races\, or sign up for both races and receive the Trail Package\, which includes our RnR Hoody\, Feetures Socks\, and a RnR Water Bottle! Keep reading to learn more! \n\n\n\nFor 2026 our events will be held on Sunday\, January 11 and Sunday\, February 15. We are again partnering with the Ohio Department of Natural Resources to put on our annual trail running series at Alum Creek State Park. Just like in the past you have the option to sign up for 2 event dates and a WIDE variety of distances\, on the only trail in Ohio built for runners\, by runners\, the Rocks and Roots Trail at Alum Creek! \n\n\n\nFor complete information regarding Rocks & Roots\, please visit the race website. \n\n\n\n\n\n\n\n\n  – Race Website\n\n\n\n  – Register\n\n\n\n  – Race Results\n\n\n\n\n\n\n\n\nRace registrations are non-refundable and non-transferable.
URL:https://racepenguin.com/events/rocks-and-roots-winter-trail-series-2/
LOCATION:3993 Hollenback Rd\, 3993 Hollenback Rd\, Lewis Center\, Ohio\, 43035
CATEGORIES:10k,20k,30k,40k,50k,Running,Trail Race,Walk
ATTACH;FMTTYPE=image/png:https://racepenguin.com/wp-content/uploads/2019/11/genericImage-websiteLogo-122352-1728672678.8477-0.bNcxoM.png
END:VEVENT
BEGIN:VEVENT
DTSTART;TZID=America/New_York:20250712T090000
DTEND;TZID=America/New_York:20250712T120000
DTSTAMP:20260423T040444
CREATED:20250121T182907Z
LAST-MODIFIED:20250624T181225Z
UID:16450-1752310800-1752321600@racepenguin.com
SUMMARY:Darby Creek Trail Run - Supporting FLIP
DESCRIPTION:– Register\n\n\n\n – Donate\n\n\n\n – Results\n\n\n\n\n\n\n\n\nJoin us for a 5k and 10k trail run through the picturesque but challenging terrain of Battelle Darby Creek Metro Park. The 5k is relatively flat and can be enjoyed by runners and walkers of all skill levels. FAMILY FRIENDLY! The 10k is a true challenge ending in a stair climb that has become infamous among the Columbus trail running community. In keeping with FLIP’s goal to encourage a cancer-preventative lifestyle\, FLIP encourages every level of fitness to come out and enjoy the scenery! Running strollers are allowed on the 5k course but not the 10k. FLIP recognizes that cancer prevention requires a dynamic shift in our thinking and is empowering individuals to engage in preventing cancer using a holistic approach: Fight- Fighting together to challenge cancer risks outside of our individual control. Live- FLIP is all about having fun and living life to its fullest… the best way to prevent cancer! Inspire- It’s so worth it to challenge yourself to reach out to friends and family (We’ll help you!) Prevent- FLIP aims to make prevention fun\, approachable\, simple and community-driven. \n\n\n\n\n\n\n\n\n\nPrice Schedule5K10KJan 21 – Feb 28th$35$35March 1st – May 15th$40$40May 16th – Race Day$45$45\n\n\n\n\n\nSchedule of Events7:30 am: Race Day Registration and Packet Pickup Begins9:00 am: 10k Run / Walk Begins9:15 am: 5k Run / Walk Begins\n\n\n\n\n\nSWAG \n\n\n\n\n\n\n\n\n\n\n\n\n\n\n\n\n\n\n\n\n\n\n\n\n\n\n\nAwards \n\n\n\nTop 3 Overall Male and Top 3 Overall Female for both the 5K & 10K \n\n\n\n\n\n\n\n\n – Register\n\n\n\n – Donate\n\n\n\n – Results\n\n\n\n\n\n\n\n\nRace registrations are non-refundable and non-transferable.
URL:https://racepenguin.com/events/darbycreektrailrun/
LOCATION:Darby Creek Metro Park\, 1775 Darby Creek Drive\, Galloway\, OH\, 43119\, United States
CATEGORIES:10k,5k,Running,Trail Race,Walk
ATTACH;FMTTYPE=image/webp:https://racepenguin.com/wp-content/uploads/2024/01/DCTR-logo.webp
END:VEVENT
BEGIN:VEVENT
DTSTART;TZID=America/New_York:20250621T070000
DTEND;TZID=America/New_York:20250621T170000
DTSTAMP:20260423T040444
CREATED:20250117T200324Z
LAST-MODIFIED:20250304T141538Z
UID:20531-1750489200-1750525200@racepenguin.com
SUMMARY:Knoxville Gran Fondo
DESCRIPTION:You’re invited to the 2025 Knoxville Gran Fondo and Trail Run on Saturday\, June 21! This event will bring awareness to Alzheimer’s and welcome everyone to be part of a great cycling and running event. Timed route distances will include 25-mile\, 60-mile\, and 85-mile options. Plus\, a timed trail run (approx. 5K distance).  \n\n\n\nPlease Visit the Race Website to Learn more about this event! \n\n\n\n\n\n\n\n\n – Learn More\n\n\n\n – Register\n\n\n\n – Donate\n\n\n\n – Race Weekend App
URL:https://racepenguin.com/events/knoxville-gran-fondo/
LOCATION:OH
CATEGORIES:5k,Cycling,Gran Fondo,Trail Race
ATTACH;FMTTYPE=image/jpeg:https://racepenguin.com/wp-content/uploads/2025/01/KnoxGranFondo_FullColor-2-scaled.jpg
END:VEVENT
BEGIN:VEVENT
DTSTART;TZID=America/New_York:20231001T080000
DTEND;TZID=America/New_York:20231001T180000
DTSTAMP:20260423T040444
CREATED:20220922T200005Z
LAST-MODIFIED:20230609T134636Z
UID:12158-1696147200-1696183200@racepenguin.com
SUMMARY:Scioto Trail Challenge
DESCRIPTION:Welcome to the Scioto Trail Challenge. The Rocks and Roots Trail Runners Association invites you to join us at the Scioto Trail State Forest in Ross County. Winding forest roads with beautiful views await you on Sunday\, October 1st\, 2023. All races start at 8:00AM. \n\n\n\nDid we mention hills? For those from North Central Ohio\, it may be a little bit hilly\, thus the Challenge. You can choose from the following distances: 10 miler\, 20 miler\, and 50K. \n\n\n\nWhile out on the route keep your eyes open\, first for the scenic views\, second for the elusive wild turkeys and red fox.  \n\n\n\nThere will be plenty of parking on-site though we do suggest carpooling. Overnight camping is also available on site \n\n\n\nFor complete information regarding the Scioto Trail Challenge\, please visit the race website. \n\n\n\n\n\n\n\n\n  – Race Website\n\n\n\n  – Register\n\n\n\n  – Race Results\n\n\n\n\n\n\n\n\nRace registrations are non-refundable and non-transferable.
URL:https://racepenguin.com/events/scioto-trail-challenge/
LOCATION:Scioto Trail State Park\, 411 Airport Rd\, Chillicothe\, OH\, 45601\, United States
CATEGORIES:10 Miler,20 Miler,50k,Running,Trail Race
ATTACH;FMTTYPE=image/png:https://racepenguin.com/wp-content/uploads/2022/09/Scioto-Trail-Challenge_Logo.png
END:VEVENT
BEGIN:VEVENT
DTSTART;TZID=America/New_York:20191019T093000
DTEND;TZID=America/New_York:20191019T120000
DTSTAMP:20260423T040444
CREATED:20170928T224522Z
LAST-MODIFIED:20191018T171917Z
UID:5737-1571477400-1571486400@racepenguin.com
SUMMARY:Kokosing River Run 5k/10k
DESCRIPTION:Come get your feet dirty – the race is on! Join us for a run or walk through BFEC’s southern trail system 5k or 10k. This race will include both steep incline and decline on the trail. Advance registration is preferred. Registration on race day will be available from 8:00 – 9:00 am. The race will begin at 9:30 am. \nSponsored by Kenyon College Social Board\, Brown Family Environmental Center\, Hillside Veterinary Clinic\, and other community partners! \n[divider colorstyle=”colorstyle_2″ dividerstyle=”style_1″ paddingtop=”” paddingbottom=”” animation=”” ] \nPRICE SCHEDULE\n[comparetable id=”comparetable_45″ class=”tb-style-1″][c-column class=”tb-left” column=”1″ #][c-row class=”hight-light” color=”#CFCDCD”]5k[/c-row][c-row]$15 through race day[/c-row][c-row class=”hight-light” color=”#CFCDCD”]10k[/c-row][c-row]$25 through race day[/c-row]\n[c-row]*Kenyon College students may participate for free with a valid Kenyon ID card*[/c-row][/c-column][/comparetable] \n  \n[divider colorstyle=”colorstyle_2″ dividerstyle=”style_1″ paddingtop=”” paddingbottom=”” animation=”” ] \n\n  \nRACE DAY SCHEDULE\n[vc_row][vc_column width=””][timeline animation=”left-to-right”]\n[timeline_item title=”8:00-9:00 am” text=”Registration Opens”]\n[timeline_item title=”9:30 am” text=”Race Begins”]\n[/timeline][/vc_column][/vc_row] \n[button id=”button_70″ size=”small” link=”https://www.athlinks.com/event/155528/results/Event/866670/Results” icon=”icon-external-link” text_color=”#0d4559″ bg_color=”#0d4559″ text_color_hover=”#ffffff” bg_color_hover=”#0d4559″]Race Results[/button] \nRace registrations are non-refundable and non-transferable.
URL:https://racepenguin.com/events/kokosingriverrun/
LOCATION:Kenyon College BFEC\, 9781 Laymon Road\, Gambier\, OH\, 43022\, United States
CATEGORIES:10k,5k,Running,Trail Race,Walk
END:VEVENT
BEGIN:VEVENT
DTSTART;TZID=America/New_York:20180428T070000
DTEND;TZID=America/New_York:20180428T150000
DTSTAMP:20260423T040444
CREATED:20141222T044617Z
LAST-MODIFIED:20180501T140911Z
UID:2483-1524898800-1524927600@racepenguin.com
SUMMARY:OWBC Redbud Trail Challenge
DESCRIPTION:  \n \n\nAre You Ready for the 2018 Redbud Trail Challenge?\nJoin us for what we think is the “Most Rugged and Beautiful Trail Race in Ohio”. The Redbud Trail Challenge is a grueling Trail Hike/Run to benefit Ohio Wilderness Boys Camp (OWBC). Bring the whole family to participate and choose between a 5K\, 10K\, or 20K trail course. It will be run on OWBC’s rugged 600 acre forested property located in the hills of Southeast Ohio. \nThe OWBC RedBud Trail Challenge. . .\nThe Redbud Trail Challenge will do just that: Challenge your will\, mind\, and body just to finish this course. But it will be worth every bit of energy and will-power you spend. The trail will go through 2 primitive campsites (the 5K will go through 1 campsite) which the boys built and where they reside. A few more unique features are crossing the 68′ span “Nehemiah” suspension bridge (which the boys built)\, the beautiful springtime forest lush with Redbud and Dogwood blossoms\, and huge boulders along the trail. \nThere will be 3 refreshment/first aid stations (2 on the 5K course) spread out over the course of the trail. The 10K trail is strenuous and has over 1\,700′ of elevation gain and is approximately 40% technical single track and 60% old logging trails. The 20K trail will be twice around the 10K course and is not for the faint of heart. The 5K is perfect for the whole family because it is less rugged for those who want the fun of hiking in the woods\, but not the difficulty and length of the 10K or 20K. All participants who register on or before April 26\, 2018 will receive a race t-shirt and a gift from OWBC. You also can wait to register until Race Day from 7:15 – 8:30 am (Race Day registration costs $5 more). After the event\, get refreshed and fellowship with your friends while enjoying a scrumptious meal for the whole family. All proceeds from the race will support the mission of Ohio Wilderness Boys Camp\, a nonprofit organization helping troubled boys and their families find new hope. Register today and help us help boys. See you on the trail. \nDetailed Course Descriptions\n5K Detailed Trail Description | 10K Detailed Trail Description \nHow Your Support Helps Troubled Boys…\nOhio Wilderness Boys Camp is a nonprofit organization operated from a Christian ethos and value system and exists to help bring healing to troubled boys and their families. The Camp is open to all interested families without regard to race\, ethnic origin\, religious creed\, or economic status. Funds generated from this event and other contributions provide a scholarship for families in need who are unable to provide the needed tuition. For more information about Camp\, visit us on the web at www.ohioboyscamp.org \n[button id=”button_8″ size=”small” link=”https://www.facebook.com/redbudtrailchallenge” icon=”icon-facebook” text_color=”#0d4559″ bg_color=”#0d4559″ text_color_hover=”#ffffff” bg_color_hover=”#0d4559″]Follow Red Bud Trail Challenge on FaceBook[/button]\nRegistration Schedule\nEarly Pricing until 4/8/2018 \n5k – $30\n10k – $40\n20k – $50 \nStandard Pricing 4/8/2018-Race Day \n5k – $40\n10k – $50\n20k – $60 \nRace Day Schedule of Events\n[vc_row][vc_column width=””][timeline animation=”left-to-right”][timeline_item title=”7:00 am” text=”Facilities Open to Participants”][timeline_item title=”7:15 am” text=”Race Day Registration Opens”][timeline_item title=”8:45 am – 9:00 am” text=”Begin Reporting to the start line”][timeline_item title=”9:00am” text=”20k Start”][timeline_item title=”9:15 am” text=”10k Start”][timeline_item title=”9:30am” text=”5k Start”][timeline_item title=”9:45 am” text=”Enjoy Breakfast and Camp Facilities”][/timeline][/vc_column][/vc_row] \nPacket Pickup\nPacket pickup will be held near the start line on race day. \n[button id=”button_70″ size=”small” link=”https://register.chronotrack.com/r/37949″ icon=”icon-info” text_color=”#0d4559″ bg_color=”#0d4559″ text_color_hover=”#ffffff” bg_color_hover=”#0d4559″]Register[/button] \n[button id=”button_70″ size=”small” link=”https://www.athlinks.com/event/165649/results/Event/713707/Results” icon=”icon-external-link” text_color=”#0d4559″ bg_color=”#0d4559″ text_color_hover=”#ffffff” bg_color_hover=”#0d4559″]Results[/button]
URL:https://racepenguin.com/events/redbudchallenge/
LOCATION:Ohio Boy’s Camp\, 44642 Zerger Quarry Road\, Summerfield\, OH\, 43788\, United States
CATEGORIES:10k,20k,5k,Running,Trail Race
ORGANIZER;CN="Ohio Wilderness Boy's Camp":MAILTO:larry@amishtoybox.com
END:VEVENT
END:VCALENDAR