BEGIN:VCALENDAR
VERSION:2.0
PRODID:-//RacePenguin - ECPv6.15.18//NONSGML v1.0//EN
CALSCALE:GREGORIAN
METHOD:PUBLISH
X-ORIGINAL-URL:https://racepenguin.com
X-WR-CALDESC:Events for RacePenguin
REFRESH-INTERVAL;VALUE=DURATION:PT1H
X-Robots-Tag:noindex
X-PUBLISHED-TTL:PT1H
BEGIN:VTIMEZONE
TZID:America/New_York
BEGIN:DAYLIGHT
TZOFFSETFROM:-0500
TZOFFSETTO:-0400
TZNAME:EDT
DTSTART:20240310T070000
END:DAYLIGHT
BEGIN:STANDARD
TZOFFSETFROM:-0400
TZOFFSETTO:-0500
TZNAME:EST
DTSTART:20241103T060000
END:STANDARD
BEGIN:DAYLIGHT
TZOFFSETFROM:-0500
TZOFFSETTO:-0400
TZNAME:EDT
DTSTART:20250309T070000
END:DAYLIGHT
BEGIN:STANDARD
TZOFFSETFROM:-0400
TZOFFSETTO:-0500
TZNAME:EST
DTSTART:20251102T060000
END:STANDARD
BEGIN:DAYLIGHT
TZOFFSETFROM:-0500
TZOFFSETTO:-0400
TZNAME:EDT
DTSTART:20260308T070000
END:DAYLIGHT
BEGIN:STANDARD
TZOFFSETFROM:-0400
TZOFFSETTO:-0500
TZNAME:EST
DTSTART:20261101T060000
END:STANDARD
END:VTIMEZONE
BEGIN:VEVENT
DTSTART;TZID=America/New_York:20250927T090000
DTEND;TZID=America/New_York:20250927T120000
DTSTAMP:20260420T000145
CREATED:20220921T173126Z
LAST-MODIFIED:20250509T153053Z
UID:12127-1758963600-1758974400@racepenguin.com
SUMMARY:Josephinum 4 Miler - Run/Walk
DESCRIPTION:2025 Josephinum 4-Miler Run / Walk Set For Saturday\, Sept. 27 \n\n\n\nThe FRIENDS OF THE JOSEPHINUM again presented the Josephinum 4-Miler Run / Walk at the Pontifical College Josephinum. \n\n\n\nThe Josephinum 4-Miler Run / Walk features a new\, one-loop four-mile course this year that will take runners and walkers on a tour of the Pontifical College Josephinum and surrounding neighborhoods. The event will start at 9 a.m. \n\n\n\nBack In 2025: The Josephinum 4-Miler will offer a VIRTUAL option in 2025 for “Friends of the Josephinum” and Pontifical College Josephinum supporters from around the nation to participate as well!Proceeds are used for scholarships and the financial needs of seminarians at the Pontifical College Josephinum. \n\n\n\nSince 1984\, the Friends of the Josephinum have provided financial support to Josephinum seminarians\, assisting with the cost of tuition\, textbooks\, clothing\, medical care\, dental care\, eye care and emergency travel needs of the seminarians. Since 2001\, more than $1 million has been provided by the Friends of the Josephinum through a variety of fund-raising efforts. \n\n\n\nFamily Rate!Register three (3) or more participants at the same time and get $15 off (discount automatically applied upon check out if 3 or more registrations are in the cart). \n\n\n\nParkingEvent parking will be at Crosswoods Center I & II office park at 100-150 E. Crosswoods Blvd. \n\n\n\n\n\n\n\nWhat You Get: \n\n\n\nWhite Castle Sliders \n\n\n\nUnisex Event Shirt \n\n\n\nOfficial Finisher’s Medal \n\n\n\nFREE Race Photos \n\n\n\nBottle of Wine (21 & Over) or Trappist Monastery Jam (Under 21) \n\n\n\nBread (All participants) \n\n\n\nFresh Breakfast Burritos \n\n\n\nFor complete information regarding Josephinum\, please visit the race website. \n\n\n\n\n\n\n\n\n  – Race Website\n\n\n\n  – Register\n\n\n\n  – Race Results\n\n\n\n\n\n\n\n\nRace registrations are non-refundable and non-transferable.
URL:https://racepenguin.com/events/josephinum4miler/
LOCATION:Pontifical College Josephinum\, 7625 N High St\, Columbus\, OH\, 43235\, United States
CATEGORIES:4 Miler,Running,Walk
ATTACH;FMTTYPE=image/jpeg:https://racepenguin.com/wp-content/uploads/2018/06/Josephinum-Logo-.jpeg
ORGANIZER;CN="M3S Sports":MAILTO:info@m3ssports.com
END:VEVENT
END:VCALENDAR