BEGIN:VCALENDAR
VERSION:2.0
PRODID:-//RacePenguin - ECPv6.15.18//NONSGML v1.0//EN
CALSCALE:GREGORIAN
METHOD:PUBLISH
X-WR-CALNAME:RacePenguin
X-ORIGINAL-URL:https://racepenguin.com
X-WR-CALDESC:Events for RacePenguin
REFRESH-INTERVAL;VALUE=DURATION:PT1H
X-Robots-Tag:noindex
X-PUBLISHED-TTL:PT1H
BEGIN:VTIMEZONE
TZID:America/New_York
BEGIN:DAYLIGHT
TZOFFSETFROM:-0500
TZOFFSETTO:-0400
TZNAME:EDT
DTSTART:20160313T070000
END:DAYLIGHT
BEGIN:STANDARD
TZOFFSETFROM:-0400
TZOFFSETTO:-0500
TZNAME:EST
DTSTART:20161106T060000
END:STANDARD
BEGIN:DAYLIGHT
TZOFFSETFROM:-0500
TZOFFSETTO:-0400
TZNAME:EDT
DTSTART:20170312T070000
END:DAYLIGHT
BEGIN:STANDARD
TZOFFSETFROM:-0400
TZOFFSETTO:-0500
TZNAME:EST
DTSTART:20171105T060000
END:STANDARD
BEGIN:DAYLIGHT
TZOFFSETFROM:-0500
TZOFFSETTO:-0400
TZNAME:EDT
DTSTART:20180311T070000
END:DAYLIGHT
BEGIN:STANDARD
TZOFFSETFROM:-0400
TZOFFSETTO:-0500
TZNAME:EST
DTSTART:20181104T060000
END:STANDARD
BEGIN:DAYLIGHT
TZOFFSETFROM:-0500
TZOFFSETTO:-0400
TZNAME:EDT
DTSTART:20190310T070000
END:DAYLIGHT
BEGIN:STANDARD
TZOFFSETFROM:-0400
TZOFFSETTO:-0500
TZNAME:EST
DTSTART:20191103T060000
END:STANDARD
END:VTIMEZONE
BEGIN:VEVENT
DTSTART;TZID=America/New_York:20180915T070000
DTEND;TZID=America/New_York:20180915T150000
DTSTAMP:20260419T123045
CREATED:20180621T191911Z
LAST-MODIFIED:20180623T100048Z
UID:6726-1536994800-1537023600@racepenguin.com
SUMMARY:40th Annual Indian Run
DESCRIPTION:  \n  \nThe Hocking Hills Indian Run trail winds through vast wooded areas of the Hocking Hills State Park (HHSP) and the Hocking State Forest\, crossing small streams\, uphill and down. The route covers some dirt roadways and pavement. The deep gorges shimmering waterfalls and lush forests provide the ultimate challenge to your powers of concentration. Choose between 60K\, 40K\, 20K\, 10K\, and 5K runs. The 60k run (37.28 miles) steps off at 7 a.m. The 40k race (24.85 miles) will begin at 8 a.m. The other races (5k\, 10k and 20k) are individual starts between 9 and 11 a.m. Each runner has an individual start and finish time recorded for them. \nThe 20k\, 40k and 60k races start at the Naturalist Cabin. (The 60k trail follows the 20k trail three times; the 40k follows it twice.) The path runs through the Hocking Hills State Park Cottages\, onto Route 664\, up Steel Hill Road\, along Chapel Ridge Road\, then into the Hocking Hills State Forest on the Queer Ridge Trail. From here it passes through the Cedar Falls area in Hocking Hills State Park\, through the forest to Rose Lake\, through the Old Man’s Cave campground\, over the A-Frame Bridge at Old Man’s Cave\, past the Naturalist’s Cabin at the Old Man’s Cave Visitors Center\, then up the hill back toward the Dining Lodge. Water stops are located at Steel Hill/Chapel Ridge Road\, Cedar Falls parking lot\, at the beginning of the Campground and at the Naturalist’s Cabin. Water stops are manned beginning at 8 a.m. so 60k’ers are invited to “stash” their own water/snacks around the course if that would be helpful to them. Fruit and water are available to 60k’ers at the Naturalist Cabin as they pass by. \n10k runners meet at the Hocking Hills Naturalist Cabin to register for the race. They are transported by bus to the start location\, which is near Top O the Caves Campground on Chapel Ridge Road in Hocking County. From here the trail passes through the Cedar Falls area in Hocking Hills State Park\, through the forest to Rose Lake\, through the Old Man’s Cave campground\, over the A-Frame Bridge at Old Man’s Cave\, past the Naturalist’s Cabin at the Old Man’s Cave Visitors Center\, then up the hill back toward the Dining Lodge. Water stops are located at the Cedar Falls parking lot\, the beginning of the Camp Ground and at the Naturalist’s Cabin. \n5k runners meet at the Hocking Hills Naturalist Cabin to register for the race. They are transported by bus to the start location\, which is at the Fisherman’s Parking Lot near Rose Lake on State Route 374 in Hocking County. From here the trail goes through the forest to Rose Lake\, through the Old Man’s Cave campground\, over the A-Frame Bridge at Old Man’s Cave\, past the Naturalist’s Cabin at the Old Man’s Cave Visitors Center\, then up the hill back toward the Dining Lodge. Water stops are located at the Cedar Falls parking lot\, the beginning of the Camp Ground and at the Naturalist’s Cabin. \n[button id=”button_70″ size=”small” link=”http://www.explorehockinghills.com/things-to-do/indian-run/” icon=”icon-info” text_color=”#0d4559″ bg_color=”#0d4559″ text_color_hover=”#ffffff” bg_color_hover=”#0d4559″]Race Details[/button] \n[button id=”button_70″ size=”small” link=”https://www.athlinks.com/event/39864/results/Event/745246/Results” icon=”icon-external-link” text_color=”#0d4559″ bg_color=”#0d4559″ text_color_hover=”#ffffff” bg_color_hover=”#0d4559″]Race Results[/button] \n  \n 
URL:https://racepenguin.com/events/indian-run/
LOCATION:Naturalist Cabin at Old Man’s Cave\, 19852 St. Rt. 664 S\, Logan\, OH\, 43138\, United States
CATEGORIES:10k,20k,40k,5k,60k,Running
END:VEVENT
BEGIN:VEVENT
DTSTART;TZID=America/New_York:20180428T070000
DTEND;TZID=America/New_York:20180428T150000
DTSTAMP:20260419T123045
CREATED:20141222T044617Z
LAST-MODIFIED:20180501T140911Z
UID:2483-1524898800-1524927600@racepenguin.com
SUMMARY:OWBC Redbud Trail Challenge
DESCRIPTION:  \n \n\nAre You Ready for the 2018 Redbud Trail Challenge?\nJoin us for what we think is the “Most Rugged and Beautiful Trail Race in Ohio”. The Redbud Trail Challenge is a grueling Trail Hike/Run to benefit Ohio Wilderness Boys Camp (OWBC). Bring the whole family to participate and choose between a 5K\, 10K\, or 20K trail course. It will be run on OWBC’s rugged 600 acre forested property located in the hills of Southeast Ohio. \nThe OWBC RedBud Trail Challenge. . .\nThe Redbud Trail Challenge will do just that: Challenge your will\, mind\, and body just to finish this course. But it will be worth every bit of energy and will-power you spend. The trail will go through 2 primitive campsites (the 5K will go through 1 campsite) which the boys built and where they reside. A few more unique features are crossing the 68′ span “Nehemiah” suspension bridge (which the boys built)\, the beautiful springtime forest lush with Redbud and Dogwood blossoms\, and huge boulders along the trail. \nThere will be 3 refreshment/first aid stations (2 on the 5K course) spread out over the course of the trail. The 10K trail is strenuous and has over 1\,700′ of elevation gain and is approximately 40% technical single track and 60% old logging trails. The 20K trail will be twice around the 10K course and is not for the faint of heart. The 5K is perfect for the whole family because it is less rugged for those who want the fun of hiking in the woods\, but not the difficulty and length of the 10K or 20K. All participants who register on or before April 26\, 2018 will receive a race t-shirt and a gift from OWBC. You also can wait to register until Race Day from 7:15 – 8:30 am (Race Day registration costs $5 more). After the event\, get refreshed and fellowship with your friends while enjoying a scrumptious meal for the whole family. All proceeds from the race will support the mission of Ohio Wilderness Boys Camp\, a nonprofit organization helping troubled boys and their families find new hope. Register today and help us help boys. See you on the trail. \nDetailed Course Descriptions\n5K Detailed Trail Description | 10K Detailed Trail Description \nHow Your Support Helps Troubled Boys…\nOhio Wilderness Boys Camp is a nonprofit organization operated from a Christian ethos and value system and exists to help bring healing to troubled boys and their families. The Camp is open to all interested families without regard to race\, ethnic origin\, religious creed\, or economic status. Funds generated from this event and other contributions provide a scholarship for families in need who are unable to provide the needed tuition. For more information about Camp\, visit us on the web at www.ohioboyscamp.org \n[button id=”button_8″ size=”small” link=”https://www.facebook.com/redbudtrailchallenge” icon=”icon-facebook” text_color=”#0d4559″ bg_color=”#0d4559″ text_color_hover=”#ffffff” bg_color_hover=”#0d4559″]Follow Red Bud Trail Challenge on FaceBook[/button]\nRegistration Schedule\nEarly Pricing until 4/8/2018 \n5k – $30\n10k – $40\n20k – $50 \nStandard Pricing 4/8/2018-Race Day \n5k – $40\n10k – $50\n20k – $60 \nRace Day Schedule of Events\n[vc_row][vc_column width=””][timeline animation=”left-to-right”][timeline_item title=”7:00 am” text=”Facilities Open to Participants”][timeline_item title=”7:15 am” text=”Race Day Registration Opens”][timeline_item title=”8:45 am – 9:00 am” text=”Begin Reporting to the start line”][timeline_item title=”9:00am” text=”20k Start”][timeline_item title=”9:15 am” text=”10k Start”][timeline_item title=”9:30am” text=”5k Start”][timeline_item title=”9:45 am” text=”Enjoy Breakfast and Camp Facilities”][/timeline][/vc_column][/vc_row] \nPacket Pickup\nPacket pickup will be held near the start line on race day. \n[button id=”button_70″ size=”small” link=”https://register.chronotrack.com/r/37949″ icon=”icon-info” text_color=”#0d4559″ bg_color=”#0d4559″ text_color_hover=”#ffffff” bg_color_hover=”#0d4559″]Register[/button] \n[button id=”button_70″ size=”small” link=”https://www.athlinks.com/event/165649/results/Event/713707/Results” icon=”icon-external-link” text_color=”#0d4559″ bg_color=”#0d4559″ text_color_hover=”#ffffff” bg_color_hover=”#0d4559″]Results[/button]
URL:https://racepenguin.com/events/redbudchallenge/
LOCATION:Ohio Boy’s Camp\, 44642 Zerger Quarry Road\, Summerfield\, OH\, 43788\, United States
CATEGORIES:10k,20k,5k,Running,Trail Race
ORGANIZER;CN="Ohio Wilderness Boy's Camp":MAILTO:larry@amishtoybox.com
END:VEVENT
BEGIN:VEVENT
DTSTART;TZID=America/New_York:20170923T063000
DTEND;TZID=America/New_York:20170923T120000
DTSTAMP:20260419T123045
CREATED:20170217T003815Z
LAST-MODIFIED:20170316T014146Z
UID:4379-1506148200-1506168000@racepenguin.com
SUMMARY:Scioto River Run Half Marathon & 10k
DESCRIPTION:[countdown year=”2017″ month=”9″ day=”23″ hour=”8″ minute=”0″] \n\nRACE HIGHLIGHTS\n\nHalf Marathon & 10k courses offer scenic views of the Scioto River and O’Shaughnessy Reservoir\nHalf course is flat\, fast\, and USATF certified\nAmple aid stations including water\, electrolyte\, and energy gels\nParking close to the start/finish line\nFirst beer is FREE and includes a Scioto River Run pint glass\nExceptional finisher food\nAwesome long sleeved soft technical t-shirt\n\nThe Scioto River Run Half Marathon is the final race of the Columbus Race Calendar Buckeye Run Series. Series participants will be recognized at the post race party for their achievement in series results. To learn more about the series or to sign up CLICK HERE (series registration closes July 3rd). \n[button id=”button_70″ size=”small” link=”http://sciotoriverrun.com/” icon=”icon-info” text_color=”#0d4559″ bg_color=”#0d4559″ text_color_hover=”#ffffff” bg_color_hover=”#0d4559″]Race Details[/button] \n[button id=”button_70″ size=”small” link=”http://sciotoriverrun.com/results/” icon=”icon-external-link” text_color=”#0d4559″ bg_color=”#0d4559″ text_color_hover=”#ffffff” bg_color_hover=”#0d4559″]Results & Photos![/button]
URL:https://racepenguin.com/events/sciotoriverrun/
LOCATION:Powell\, OH\, 4102 W Powell Rd\, Powell\, OH\, 43065\, United States
CATEGORIES:10k,Half Marathon,Running
END:VEVENT
BEGIN:VEVENT
DTSTART;TZID=America/New_York:20170722T080000
DTEND;TZID=America/New_York:20170722T140000
DTSTAMP:20260419T123045
CREATED:20170118T040322Z
LAST-MODIFIED:20190712T142147Z
UID:4242-1500710400-1500732000@racepenguin.com
SUMMARY:A Country Mile 20k\, 10k\, & 3k
DESCRIPTION:[countdown year=”2017″ month=”7″ day=”21″ hour=”8″ minute=”0″] \n \n“Take a Sunday drive in the country! (On your feet; on a Saturday!)”\nUnfortunately we have had to cancel this year’s event. We hope to see you next year!\nWelcome to A Country Mile! On July 22\, 2017\, come experience an event that will get you away from the hustle and bustle of the city\, and afford you the opportunity to enjoy the country. Spend a beautiful summer day out in the country\, and explore what it has to offer! \nThe event will start and end on the Hord Family farm (Centerburg\, Ohio area)\, and along the way you will experience motley terrain\, including; back roads\, farmland\, a horse ranch\, wooded trails and a farm that provides one of the best landscape views in Central Ohio. \nPricing will increase on March 4 at midnight (Early Bird Pricing ends 3/3/17 @ 11:59 PM) \nA Country Mile\, the motley terrain race (MTR)\, is a venture to encourage the Ohio and surrounding running communities to ground athletes’ running adventures in their local communities\, and encourage the supporting of local businesses. A Country Mile will be hosted north of Columbus\, in Centerburg\, Ohio. The race will take place on 3 back roads (Dirt\, Gravel\, Pavement)\, through farmland and single track trails. The race will be hopeful in encouraging participants to branch out\, and try different types of terrain when training. \n“Complete or Compete. Your Goals\, Your Success” \nDistances/Course: \n\nParticipants will be able to choose from 2 distances (Roughly: 10K\, 3-5K Trail)\nThe event will consist of a loop\, approximately 10K in distance. (20K participants will run the loop twice)\nTerrain of the loop: Paved Road\, Gravel Road\, Dirt Road\, Corn/Bean Field\, Backwoods\, single track trail and off trail)\n\nDivisions: \n\nMen\nWomen\n\nAwards: \n\n10K Participants will be guaranteed a unique event shirt (If registered before 6/10/17)\, completion “medal” and beverage ticket\n3K Participants will receive a finishers medal and a beverage ticket\nPodium Finishers (1-3 Place) of the 10K  will also receive a unique podium “trophy” and a selection of STEAKS (Donated by the Ohio Beef Council)\n\n\nBuild your team: Get your friends and family together\, and build a team. (Discounted overall price for every team of four registered) \nFund-raise: The event will be raising funds for the Big Walnut Friends Who Share and For Those Who Would charitable organizations. If you are looking for an event to put your fundraising skills into action\, this would be a great one! \n\nMore About The Charities\nBig Walnut Friends Who Share\nhttp://www.bigwalnutfriendswhoshare.org/ \nMission and Purpose: \nThe Mission of the Big Walnut Friends Who Share is to work to improve the living conditions of families and individuals in need/crisis who reside in the Big Walnut School District by securing donated items (including clothing\, food\, household furnishings\, cash contributions\, etc) and then distributing them free of charge to these persons. \n\nFor Those Who Would | By Those Who Can \n(http://forthosewhowould.com/) \nMission: \nFor Those Who Would is a certified 501(c)(3) tax-exempt charity based out of Richmond\, KY with a mission to support individuals prevented from participating in athletic and physical recreational activities due to debilitating injuries or chronic diseases. We want to make a positive and meaningful impact on the lives of those individuals and to become the charity of choice for adventure and endurance athletes. For Those Who Would also supports endurance and adventure athletes by providing a mechanism through which they can raise money for their own personal cause that furthers the foundation’s mission.\nBut what are we really about? \nFor Those Who Would is about the stories of athletes who want to do “more than just compete”. It is about the stories of those who would love to be able to do what we do\, but can’t due to injury or disease. It is about competing in honor of that special disadvantaged individual in your life. For Those Who Would was established so that the passion of obstacle racing and adventure athletes could be channeled into “making MEANINGFUL IMPACT” on the lives of others. This is personal and we want to help make that happen. \nFor Those Who Would is truly about serving others. There are no paid employees and which helps keep administrative costs as low as possible so that funds go to those who need it. \nSponsors\n   \n[button id=”button_70″ size=”small” link=”https://acountrymile.itsyourrace.com/event.aspx?id=8705″ icon=”icon-info” text_color=”#0d4559″ bg_color=”#0d4559″ text_color_hover=”#ffffff” bg_color_hover=”#0d4559″]Race Details[/button] \n[button id=”button_70″ size=”small” link=”https://acountrymile.itsyourrace.com/results.aspx?id=8705″ icon=”icon-external-link” text_color=”#0d4559″ bg_color=”#0d4559″ text_color_hover=”#ffffff” bg_color_hover=”#0d4559″]Results & Photos![/button]
URL:https://racepenguin.com/events/a-country-mile/
LOCATION:8672 Camp Road\, Mount Vernon\, OH\, 43050\, United States
CATEGORIES:10k,20k,Running
END:VEVENT
BEGIN:VEVENT
DTSTART;TZID=America/New_York:20170610T080000
DTEND;TZID=America/New_York:20170610T120000
DTSTAMP:20260419T123045
CREATED:20150226T181831Z
LAST-MODIFIED:20170526T024329Z
UID:2712-1497081600-1497096000@racepenguin.com
SUMMARY:Paddy's Pig 5k/10k Run/Walk
DESCRIPTION:[countdown year=”2017″ month=”6″ day=”10″ hour=”8″ minute=”00″] \n \nAbout This Event\nThe Paddy’s Pig 5K/10K Run/Walk consists of a fully certified 5K course and a fully certified 10K course. Competitive runners will be pleased with the easy inclines and clean surface while walkers and runners will enjoy the combination of beautiful countryside and quiet\, residential neighborhoods in the pleasant town of Bellefontaine. The two races start at different times and finish at the same location. \nCost of Registration\nThe cost for participation is $25.00 per person until May 27. The cost for registration increases to $30.00 on May 27. T-shirts will be provided for those who register before May 27. T-shirts are not guaranteed for those registering after May 27. \nUse #paddyspigrun for social media \nFriday Night Activities\nParticipants and their families are encouraged to get together at St. Patrick Church between 5 and 7 for a pasta dinner and the Little Piglets Kids race \nPacket Pickup\nParticipants may pick up packets or register from 8:00-8:55 AM on Saturday\, June 10.  \nRace Day Parking\nThe church parking lot and street side parking are available. Please observe all street signage. \nWho benefits from Paddy’s Pig 5K/10K Run/Walk?\nThis event enables the St. Patrick Youth to participate in a variety of spiritual growth opportunities such as mission trips\, workshops and leadership training. Your support of this event is greatly appreciated. \n[button id=”button_70″ size=”small” link=”http://www.itsyourrace.com/EventCourses.aspx?id=5250″ text_color=”#0d4559″ bg_color=”#0d4559″ text_color_hover=”#ffffff” bg_color_hover=”#0d4559″]Certified Course Maps[/button] \nAwards\nParticipants in the top three in their age group will receive a finisher medal. Special awards will go to the top 3 overall finishers male and female. \nAge groups: 14 & Under\, 15-18\, 19-24\, 25-34\, 35-44\, 45-54\, 55-59\, 60-64\, 65 & over. \n[vc_row][vc_column width=””][timeline animation=”appear”][timeline_item title=”8:00am” text=”Race Day Registration Opens”][timeline_item title=”8:50″ text=”Begin Reporting To The Start Line”][timeline_item title=”9:00 am” text=”10k Start”][timeline_item title=”9:15 am” text=”5k Start”][/timeline][/vc_column][/vc_row] \n  \n[button id=”button_70″ size=”small” link=”http://PaddysPigRun.itsyourrace.com/” icon=”icon-info” text_color=”#0d4559″ bg_color=”#0d4559″ text_color_hover=”#ffffff” bg_color_hover=”#0d4559″]Race Details[/button] \n[button id=”button_70″ size=”small” link=”http://www.itsyourrace.com/results.aspx?id=5250″ icon=”icon-external-link” text_color=”#0d4559″ bg_color=”#0d4559″ text_color_hover=”#ffffff” bg_color_hover=”#0d4559″]Results & Photos![/button] \n 
URL:https://racepenguin.com/events/paddypigrun/
LOCATION:Saint Patrick Church\, 328 E. Patterson Ave.\, Bellefontaine\, OH\, 43311\, United States
CATEGORIES:10k,5k,Running
END:VEVENT
END:VCALENDAR