BEGIN:VCALENDAR
VERSION:2.0
PRODID:-//RacePenguin - ECPv6.15.18//NONSGML v1.0//EN
CALSCALE:GREGORIAN
METHOD:PUBLISH
X-WR-CALNAME:RacePenguin
X-ORIGINAL-URL:https://racepenguin.com
X-WR-CALDESC:Events for RacePenguin
REFRESH-INTERVAL;VALUE=DURATION:PT1H
X-Robots-Tag:noindex
X-PUBLISHED-TTL:PT1H
BEGIN:VTIMEZONE
TZID:America/New_York
BEGIN:DAYLIGHT
TZOFFSETFROM:-0500
TZOFFSETTO:-0400
TZNAME:EDT
DTSTART:20250309T070000
END:DAYLIGHT
BEGIN:STANDARD
TZOFFSETFROM:-0400
TZOFFSETTO:-0500
TZNAME:EST
DTSTART:20251102T060000
END:STANDARD
BEGIN:DAYLIGHT
TZOFFSETFROM:-0500
TZOFFSETTO:-0400
TZNAME:EDT
DTSTART:20260308T070000
END:DAYLIGHT
BEGIN:STANDARD
TZOFFSETFROM:-0400
TZOFFSETTO:-0500
TZNAME:EST
DTSTART:20261101T060000
END:STANDARD
BEGIN:DAYLIGHT
TZOFFSETFROM:-0500
TZOFFSETTO:-0400
TZNAME:EDT
DTSTART:20270314T070000
END:DAYLIGHT
BEGIN:STANDARD
TZOFFSETFROM:-0400
TZOFFSETTO:-0500
TZNAME:EST
DTSTART:20271107T060000
END:STANDARD
END:VTIMEZONE
BEGIN:VEVENT
DTSTART;TZID=America/New_York:20260322T080000
DTEND;TZID=America/New_York:20260322T120000
DTSTAMP:20260424T115326
CREATED:20260113T151248Z
LAST-MODIFIED:20260309T200228Z
UID:24562-1774166400-1774180800@racepenguin.com
SUMMARY:Cheetah Run 5K
DESCRIPTION:Run wild at our one-of-a-kind Cheetah Run 5K!This fun and family-friendly race takes you on a scenic route through the zoo\, winding past animal habitats before the zoo opens to the public. Whether you’re racing for a personal best or jogging with friends\, enjoy a truly unforgettable run surrounded by wildlife\, fresh air\, and community spirit. Perfect for runners of all ages and abilities! \n\n\n\nAfter the 5K\, there is a cub run for kids ages 12 and under. Included in registration for both races is a ticket for zoo admission for that day. Extra tickets for family and friends can also be purchased. \n\n\n\n\n\n\n\n\n  – Race Website\n\n\n\n  – Register\n\n\n\n  – Race Results\n\n\n\n\n\n\n\n\nRace registrations are non-refundable and non-transferable.
URL:https://racepenguin.com/events/cheetah-run-5k/
LOCATION:Cincinnati Zoo & Botanical Garden\, 3400 Vine St\, Cincinnati\, Ohio\, United States
CATEGORIES:5k,Kids Pricing,Kids Race,Running
ATTACH;FMTTYPE=image/png:https://racepenguin.com/wp-content/uploads/2026/01/Cheetah-Run-logo-2026-1.png
END:VEVENT
END:VCALENDAR