BEGIN:VCALENDAR
VERSION:2.0
PRODID:-//RacePenguin - ECPv6.15.18//NONSGML v1.0//EN
CALSCALE:GREGORIAN
METHOD:PUBLISH
X-WR-CALNAME:RacePenguin
X-ORIGINAL-URL:https://racepenguin.com
X-WR-CALDESC:Events for RacePenguin
REFRESH-INTERVAL;VALUE=DURATION:PT1H
X-Robots-Tag:noindex
X-PUBLISHED-TTL:PT1H
BEGIN:VTIMEZONE
TZID:America/New_York
BEGIN:DAYLIGHT
TZOFFSETFROM:-0500
TZOFFSETTO:-0400
TZNAME:EDT
DTSTART:20240310T070000
END:DAYLIGHT
BEGIN:STANDARD
TZOFFSETFROM:-0400
TZOFFSETTO:-0500
TZNAME:EST
DTSTART:20241103T060000
END:STANDARD
BEGIN:DAYLIGHT
TZOFFSETFROM:-0500
TZOFFSETTO:-0400
TZNAME:EDT
DTSTART:20250309T070000
END:DAYLIGHT
BEGIN:STANDARD
TZOFFSETFROM:-0400
TZOFFSETTO:-0500
TZNAME:EST
DTSTART:20251102T060000
END:STANDARD
BEGIN:DAYLIGHT
TZOFFSETFROM:-0500
TZOFFSETTO:-0400
TZNAME:EDT
DTSTART:20260308T070000
END:DAYLIGHT
BEGIN:STANDARD
TZOFFSETFROM:-0400
TZOFFSETTO:-0500
TZNAME:EST
DTSTART:20261101T060000
END:STANDARD
END:VTIMEZONE
BEGIN:VEVENT
DTSTART;TZID=America/New_York:20251206T093000
DTEND;TZID=America/New_York:20251206T110000
DTSTAMP:20260424T162426
CREATED:20240904T170612Z
LAST-MODIFIED:20251111T174510Z
UID:16249-1765013400-1765018800@racepenguin.com
SUMMARY:Run Run Reindeer
DESCRIPTION:– Register\n\n\n\n – Donate\n\n\n\n – Results\n\n\n\n[] – Facebook\n\n\n\n\n\n\n\n\nThe Run Run Reindeer 5K & 1 Mile Family Walk is more than just a festive holiday tradition—it’s a race with a purpose! Proceeds from this event directly benefit the YMCA Healthy Kids Network Backpack Program\, which provides over 400 children in 22 Licking County schools with nutritious\, easy-to-prepare meals each weekend. Every step you take helps ensure no child in our community goes hungry. \n\n\n\nParticipants will enjoy a cheerful\, family-friendly atmosphere complete with holiday music\, costumes\, and plenty of fun along the course. Thanks to the generosity of our amazing sponsors\, each runner and walker will receive a cozy commemorative race sweatshirt to remember the day. \n\n\n\nThis race is truly unique—where else can you lace up your sneakers\, join Rudy the Reindeer in spreading holiday cheer\, and know that your entry fee is helping local kids thrive? Whether you’re racing to beat your best time\, walking with friends\, or making memories with family\, this event is the perfect way to celebrate the season and give back to your community. \n\n\n\n\n\nPrice Schedule5K1 MileThrough Nov. 23$45$35Nov. 24-Dec. 6$55$45\n\n\n\n\n\nSchedule of Events8:30 AM: Race Day Registration & Packet Pickup Begins9:30 AM: 5K Begins9:40 AM: 1 Mile Begins10:30 AM: Award Ceremony \n\n\n\n\n\nPre-Race Packet Pickup \n\n\n\nLicking County Family YMCA – 470 West Church St\, Newark\, OH 43055Thursday\, December 4 12PM-6PM \n\n\n\nLicking County Family YMCA – 470 West Church St\, Newark\, OH 43055 Friday\, December 5 6:00AM-3PM\n\n\n\nSWAG \n\n\n\n2025 Shirt & Medal \n\n\n\n\n\n\n\n\n\n\n\n\n\n\n\n\n\n\n\n\n\n\n\n\n\n\n\nCourse Map \n\n\n\n\n\n\n\n\n\n\n\nAwards \n\n\n\nTop 3 men & Top 3 women Overall.  Top 3 in each age group (not counting overall winners). \n\n\n\n\n\n\n\n\n – Register\n\n\n\n – Donate\n\n\n\n – Results\n\n\n\n[] – Facebook\n\n\n\n\nRace registrations are non-refundable and non-transferable.
URL:https://racepenguin.com/events/run-run-reindeer/
LOCATION:925 Sharon Valley Rd\, Newark\, OH\, USA\, 925 Sharon Valley Rd\, Newark\, Ohio\, United States
CATEGORIES:1 Miler,5k,Kids Pricing,Kids Race,Running,Walk
ATTACH;FMTTYPE=image/png:https://racepenguin.com/wp-content/uploads/2024/09/2025-Reindeer-5K-1.png
END:VEVENT
END:VCALENDAR