BEGIN:VCALENDAR
VERSION:2.0
PRODID:-//RacePenguin - ECPv6.15.18//NONSGML v1.0//EN
CALSCALE:GREGORIAN
METHOD:PUBLISH
X-WR-CALNAME:RacePenguin
X-ORIGINAL-URL:https://racepenguin.com
X-WR-CALDESC:Events for RacePenguin
REFRESH-INTERVAL;VALUE=DURATION:PT1H
X-Robots-Tag:noindex
X-PUBLISHED-TTL:PT1H
BEGIN:VTIMEZONE
TZID:America/New_York
BEGIN:DAYLIGHT
TZOFFSETFROM:-0500
TZOFFSETTO:-0400
TZNAME:EDT
DTSTART:20240310T070000
END:DAYLIGHT
BEGIN:STANDARD
TZOFFSETFROM:-0400
TZOFFSETTO:-0500
TZNAME:EST
DTSTART:20241103T060000
END:STANDARD
BEGIN:DAYLIGHT
TZOFFSETFROM:-0500
TZOFFSETTO:-0400
TZNAME:EDT
DTSTART:20250309T070000
END:DAYLIGHT
BEGIN:STANDARD
TZOFFSETFROM:-0400
TZOFFSETTO:-0500
TZNAME:EST
DTSTART:20251102T060000
END:STANDARD
BEGIN:DAYLIGHT
TZOFFSETFROM:-0500
TZOFFSETTO:-0400
TZNAME:EDT
DTSTART:20260308T070000
END:DAYLIGHT
BEGIN:STANDARD
TZOFFSETFROM:-0400
TZOFFSETTO:-0500
TZNAME:EST
DTSTART:20261101T060000
END:STANDARD
END:VTIMEZONE
BEGIN:VEVENT
DTSTART;TZID=America/New_York:20250704T080000
DTEND;TZID=America/New_York:20250704T100000
DTSTAMP:20260424T223307
CREATED:20240410T165218Z
LAST-MODIFIED:20250626T163118Z
UID:3433-1751616000-1751623200@racepenguin.com
SUMMARY:Freedom 5k
DESCRIPTION:– Register\n\n\n\n – Donate\n\n\n\n – Results\n\n\n\n\n\n\n\n\nCome celebrate Independence Day by running a new 5k route hosted by Olentangy Orange High School running programs! All proceeds benefit the running programs and some are donated to Honor Flight Columbus to help war veterans travel to Washington DC! \n\n\n\nThe race will begin and end right outside of Olentangy Orange HS stadium. \n\n\n\nKids runs only will take place on the track and be hand-timed with no official results\, but you will get your kids time as they cross the line. \n\n\n\n\n\n\n\n\n\nPrice Schedule5KKids RunThrough June 6th$30$15June 7th-July 3rd$35$15July 4th\, Race Day$40$15\n\n\n\n\n\nSchedule of Events7:00am: Race Day Registration and Packet Pickup Begins8:00am: 5k Run / Walk Begins8:40am: 1/4 mile Liberty Lap begin on the track (2nd grade and under)8:45am: 1 Mile Kids Run (3rd-6th grade)10:00am: Orange Township Parade at OOMS and OOHS\n\n\n\n\n\nPre-Race Packet Pickup \n\n\n\nJune 2nd & June 3rd: 11am-7pm (During Store Hours)Fleet Feet Polaris1270 E Powell RdLewis Center\, OH 43035\n\n\n\nSWAG \n\n\n\n\n\n\n\n\n\n\n\n \n\n\n\n \n\n\n\nAwards \n\n\n\n\nTop 3 Men\n\n\n\nTop 3 Women\n\n\n\nTop 3 in each age group\, separated by gender\n\n\n\n\n\n\n\n\n\n – Register\n\n\n\n – Donate\n\n\n\n – Results\n\n\n\n\n\n\n\n\nRace registrations are non-refundable and non-transferable.
URL:https://racepenguin.com/events/freedom5k/
LOCATION:Olentangy Orange High School Stadium\, 2840 E Orange Rd\, Lewis Center\, Ohio\, 43035\, United States
CATEGORIES:1 Miler,5k,Kids Pricing,Kids Race,Running
ATTACH;FMTTYPE=image/png:https://racepenguin.com/wp-content/uploads/2024/05/rsubanner-backgrounds-1200x400-1800-x-2700-px-1800-x-1800-px.png
END:VEVENT
END:VCALENDAR