BEGIN:VCALENDAR
VERSION:2.0
PRODID:-//RacePenguin - ECPv6.15.18//NONSGML v1.0//EN
CALSCALE:GREGORIAN
METHOD:PUBLISH
X-WR-CALNAME:RacePenguin
X-ORIGINAL-URL:https://racepenguin.com
X-WR-CALDESC:Events for RacePenguin
REFRESH-INTERVAL;VALUE=DURATION:PT1H
X-Robots-Tag:noindex
X-PUBLISHED-TTL:PT1H
BEGIN:VTIMEZONE
TZID:America/New_York
BEGIN:DAYLIGHT
TZOFFSETFROM:-0500
TZOFFSETTO:-0400
TZNAME:EDT
DTSTART:20240310T070000
END:DAYLIGHT
BEGIN:STANDARD
TZOFFSETFROM:-0400
TZOFFSETTO:-0500
TZNAME:EST
DTSTART:20241103T060000
END:STANDARD
BEGIN:DAYLIGHT
TZOFFSETFROM:-0500
TZOFFSETTO:-0400
TZNAME:EDT
DTSTART:20250309T070000
END:DAYLIGHT
BEGIN:STANDARD
TZOFFSETFROM:-0400
TZOFFSETTO:-0500
TZNAME:EST
DTSTART:20251102T060000
END:STANDARD
BEGIN:DAYLIGHT
TZOFFSETFROM:-0500
TZOFFSETTO:-0400
TZNAME:EDT
DTSTART:20260308T070000
END:DAYLIGHT
BEGIN:STANDARD
TZOFFSETFROM:-0400
TZOFFSETTO:-0500
TZNAME:EST
DTSTART:20261101T060000
END:STANDARD
END:VTIMEZONE
BEGIN:VEVENT
DTSTART;TZID=America/New_York:20250802T070000
DTEND;TZID=America/New_York:20250803T170000
DTSTAMP:20260422T020058
CREATED:20220620T201512Z
LAST-MODIFIED:20250509T162348Z
UID:11673-1754118000-1754240400@racepenguin.com
SUMMARY:Pelotonia
DESCRIPTION:Together\, we’re accelerating the fight against cancer\, but it’s about more than that. We’re a community empowering communities to boldly move forward for the greater good. \n\n\n\nWhen we ride together\, rally together\, and fundraise together\, our collective impact is greater. We can do more than ever thought possible when we all focus on One Goal.  \n\n\n\nAs one\, we’re inspiring change. Together\, we’re driving progress. Join us in 2025! \n\n\n\nFor complete information regarding the Pelotonia\, please visit the race website. \n\n\n\n\n\n\n\n\n  – Race Website\n\n\n\n  – Register\n\n\n\n\n\n\n\n\nRace registrations are non-refundable and non-transferable.
URL:https://racepenguin.com/events/pelotonia/
LOCATION:Multiple Locations\, Columbus\, OH\, United States
CATEGORIES:Cycling
ATTACH;FMTTYPE=image/webp:https://racepenguin.com/wp-content/uploads/2024/02/24-logo-1.webp
END:VEVENT
BEGIN:VEVENT
DTSTART;TZID=America/New_York:20250830T073000
DTEND;TZID=America/New_York:20250830T150000
DTSTAMP:20260422T020058
CREATED:20250130T172238Z
LAST-MODIFIED:20250304T141836Z
UID:20810-1756539000-1756566000@racepenguin.com
SUMMARY:Elk River Valley 100
DESCRIPTION:You are invited to 2025 Elk River Valley 100\, the middle Tennessee Gran Fondo by Pedal for Alzheimer’s\, on Saturday\, August 30\, 2025! This event will bring awareness to Alzheimer’s and welcome cyclists to ride in timed route distances including 31-mile\, 62-mile\, 80-mile\, and 100-mile options. \n\n\n\nAwards to Top 3 Finishers (Male/Female) KOM/QOM Competition will be awarded to the fastest climber (Male and Female) \n\n\n\nFor complete information regarding the Elk River Valley 100\, please visit the race website. \n\n\n\n\n\n\n\n\n  – Race Website\n\n\n\n  – Register\n\n\n\n – Donate\n\n\n\n – Race Weekend App\n\n\n\n\n\n\n\n\nRace registrations are non-refundable and non-transferable.
URL:https://racepenguin.com/events/elk-river-valley-100/
LOCATION:West Middle School\, 90 Hermitage Dr\, Tullahoma\, Tennessee\, 37388\, United States
CATEGORIES:Cycling,Gran Fondo
ATTACH;FMTTYPE=image/png:https://racepenguin.com/wp-content/uploads/2025/01/ERV100-Logo.png
END:VEVENT
END:VCALENDAR