BEGIN:VCALENDAR
VERSION:2.0
PRODID:-//RacePenguin - ECPv6.15.18//NONSGML v1.0//EN
CALSCALE:GREGORIAN
METHOD:PUBLISH
X-ORIGINAL-URL:https://racepenguin.com
X-WR-CALDESC:Events for RacePenguin
REFRESH-INTERVAL;VALUE=DURATION:PT1H
X-Robots-Tag:noindex
X-PUBLISHED-TTL:PT1H
BEGIN:VTIMEZONE
TZID:America/New_York
BEGIN:DAYLIGHT
TZOFFSETFROM:-0500
TZOFFSETTO:-0400
TZNAME:EDT
DTSTART:20240310T070000
END:DAYLIGHT
BEGIN:STANDARD
TZOFFSETFROM:-0400
TZOFFSETTO:-0500
TZNAME:EST
DTSTART:20241103T060000
END:STANDARD
BEGIN:DAYLIGHT
TZOFFSETFROM:-0500
TZOFFSETTO:-0400
TZNAME:EDT
DTSTART:20250309T070000
END:DAYLIGHT
BEGIN:STANDARD
TZOFFSETFROM:-0400
TZOFFSETTO:-0500
TZNAME:EST
DTSTART:20251102T060000
END:STANDARD
BEGIN:DAYLIGHT
TZOFFSETFROM:-0500
TZOFFSETTO:-0400
TZNAME:EDT
DTSTART:20260308T070000
END:DAYLIGHT
BEGIN:STANDARD
TZOFFSETFROM:-0400
TZOFFSETTO:-0500
TZNAME:EST
DTSTART:20261101T060000
END:STANDARD
END:VTIMEZONE
BEGIN:VEVENT
DTSTART;TZID=America/New_York:20250720T090000
DTEND;TZID=America/New_York:20250720T110000
DTSTAMP:20260422T032504
CREATED:20240606T144808Z
LAST-MODIFIED:20250513T162537Z
UID:18079-1753002000-1753009200@racepenguin.com
SUMMARY:Swartout Challenge Time Trial
DESCRIPTION:The 10.2 mile course is on a lightly traveled road with smooth to semi-rough pavement. The route rolls uphill from the start gaining less than one hundred feet. This is followed by a short\, rapid dip and back up before the flattest downward stretch heading towards the final uphill finishing kick. The road is not closed to traffic but typically is very lightly travelled at this time. Cross roads will be marshalled. \n\n\n\nRoute Links: Strava Segment\, Map My Ride \n\n\n\n\n\n\n\nDirections\n\n\n\nParking: Parking is available at Rider Check-In/Awards in the parking lot of Papa Johns and Java Jackets. We do not have permission for parking in the Dollar General store\, but there is plenty of additional on-street parking in the small neighborhood west of this area.  \n\n\n\nStart Line NO PARKING!: 360 Lower River Rd\, Cleves\, OH \n\n\n\nFinish Line NO PARKING!: 103-33 Brower Rd\, North Bend\, OH \n\n\n\nRider Check-In\, Awards: 200 Three Rivers Parkway\, North Bend\, OH \n\n\n\nShort Cut Between Start and Finish: The Start and Finish are separated by only one mile. There is a relatively well protected bike lane on U.S. 50 (Ohio River Scenic Byway/Three Rivers Parkway). Alternately\, there is a route using surface streets\, but Miami Avenue has a short\, very steep hill. Take care when crossing U.S. 50. \n\n\n\nFor complete information regarding the Swartout Challenge Time Trial\, please visit the race website. \n\n\n\n\n\n\n\n\n  – Race Website\n\n\n\n  – Register\n\n\n\n – Results\n\n\n\n\n\n\n\n\nRace registrations are non-refundable and non-transferable.
URL:https://racepenguin.com/events/swartout-challenge-time-trial/
CATEGORIES:Cycling,Omnium
ATTACH;FMTTYPE=image/jpeg:https://racepenguin.com/wp-content/uploads/2024/06/2024SCTTWebHeader.jpg
END:VEVENT
END:VCALENDAR