BEGIN:VCALENDAR
VERSION:2.0
PRODID:-//RacePenguin - ECPv6.15.18//NONSGML v1.0//EN
CALSCALE:GREGORIAN
METHOD:PUBLISH
X-ORIGINAL-URL:https://racepenguin.com
X-WR-CALDESC:Events for RacePenguin
REFRESH-INTERVAL;VALUE=DURATION:PT1H
X-Robots-Tag:noindex
X-PUBLISHED-TTL:PT1H
BEGIN:VTIMEZONE
TZID:America/New_York
BEGIN:DAYLIGHT
TZOFFSETFROM:-0500
TZOFFSETTO:-0400
TZNAME:EDT
DTSTART:20240310T070000
END:DAYLIGHT
BEGIN:STANDARD
TZOFFSETFROM:-0400
TZOFFSETTO:-0500
TZNAME:EST
DTSTART:20241103T060000
END:STANDARD
BEGIN:DAYLIGHT
TZOFFSETFROM:-0500
TZOFFSETTO:-0400
TZNAME:EDT
DTSTART:20250309T070000
END:DAYLIGHT
BEGIN:STANDARD
TZOFFSETFROM:-0400
TZOFFSETTO:-0500
TZNAME:EST
DTSTART:20251102T060000
END:STANDARD
BEGIN:DAYLIGHT
TZOFFSETFROM:-0500
TZOFFSETTO:-0400
TZNAME:EDT
DTSTART:20260308T070000
END:DAYLIGHT
BEGIN:STANDARD
TZOFFSETFROM:-0400
TZOFFSETTO:-0500
TZNAME:EST
DTSTART:20261101T060000
END:STANDARD
END:VTIMEZONE
BEGIN:VEVENT
DTSTART;TZID=America/New_York:20250405T100000
DTEND;TZID=America/New_York:20250405T170000
DTSTAMP:20260422T074556
CREATED:20250320T174106Z
LAST-MODIFIED:20250321T165923Z
UID:21504-1743847200-1743872400@racepenguin.com
SUMMARY:Kentucky Open Road Racing #1
DESCRIPTION:Every race in the series will be hosted by Turtleback Ridge Brewery on their family farm at 6769 Mt Pleasant Rd Ewing\, KY. \n\n\n\nThe start and finish line will always be in the same place\, on the pavement at the edge of the entrance to the brewery. As a racer it is important that you arrive early to check in and be prepared for riders meeting at 9:45 am. The race will begin at 10 am and all riders are expected to be in staging at that time as the waves go out in short intervals. We can not delay the race for you. \n\n\n\nThe race is hosted on a family farm and the majority of parking is in grass fields. If there is a lot of rain we will do our best to accommodate you.  The driveway to the tap room\, race start\, etc is gravel. Prepare accordingly. We will be using the farm house at the start/finish area for morning check in. If you would like to wear regular shoes or boots to get from the parking area to the start/finish you can leave a drop bag with us at the house until your race is over. \n\n\n\nThe awards ceremony\, food trucks\, and all after race celebrations will be held at the taproom.  \n\n\n\nFor complete information regarding the Kentucky Open Road Race Series\, please visit the race website. \n\n\n\n\n\n\n\n\n  – Race Website\n\n\n\n  – Register\n\n\n\n  – Race Results\n\n\n\n\n\n\n\n\nRace registrations are non-refundable and non-transferable.
URL:https://racepenguin.com/events/kentucky-open-road-racing-1/
CATEGORIES:Cycling,Cycling Road Race
ATTACH;FMTTYPE=image/jpeg:https://racepenguin.com/wp-content/uploads/2025/03/KORRS-Logo-2025.jpg
END:VEVENT
BEGIN:VEVENT
DTSTART;TZID=America/New_York:20250409T000000
DTEND;TZID=America/New_York:20250413T235959
DTSTAMP:20260422T074556
CREATED:20240208T165338Z
LAST-MODIFIED:20250303T204016Z
UID:16673-1744156800-1744588799@racepenguin.com
SUMMARY:LIFE TIME Sea Otter Classic
DESCRIPTION:Whether you’re ready to hit the trails or race over the region’s scenic paved and gravel roads\, Sea Otter has an event for you. A bike racing weekend like no other\, Sea Otter features mountain bike\, road\, and gravel racing for all ages and levels of riders on all types of bikes\, including para\, tandem\, and e-bike categories.  \n\n\n\nFor complete information regarding the LIFE TIME Sea Otter Classic\, please visit the race website. \n\n\n\n\n\n\n\n\n  – Race Website\n\n\n\n  – Register\n\n\n\n  – Race Results\n\n\n\n\n\n\n\n\nRace registrations are non-refundable and non-transferable.
URL:https://racepenguin.com/events/life-time-sea-otter-classic/
LOCATION:WeatherTech Raceway Laguna Seca\, 1021 Monterey Salinas Hwy\, Salinas\, California\, 93908\, United States
CATEGORIES:Circuit Race,Cycling,Gravel Race,MTB Race
ATTACH;FMTTYPE=image/webp:https://racepenguin.com/wp-content/uploads/2024/02/Sea-Otter-Classic-Continental.webp
END:VEVENT
END:VCALENDAR