BEGIN:VCALENDAR
VERSION:2.0
PRODID:-//RacePenguin - ECPv6.15.18//NONSGML v1.0//EN
CALSCALE:GREGORIAN
METHOD:PUBLISH
X-ORIGINAL-URL:https://racepenguin.com
X-WR-CALDESC:Events for RacePenguin
REFRESH-INTERVAL;VALUE=DURATION:PT1H
X-Robots-Tag:noindex
X-PUBLISHED-TTL:PT1H
BEGIN:VTIMEZONE
TZID:America/New_York
BEGIN:DAYLIGHT
TZOFFSETFROM:-0500
TZOFFSETTO:-0400
TZNAME:EDT
DTSTART:20240310T070000
END:DAYLIGHT
BEGIN:STANDARD
TZOFFSETFROM:-0400
TZOFFSETTO:-0500
TZNAME:EST
DTSTART:20241103T060000
END:STANDARD
BEGIN:DAYLIGHT
TZOFFSETFROM:-0500
TZOFFSETTO:-0400
TZNAME:EDT
DTSTART:20250309T070000
END:DAYLIGHT
BEGIN:STANDARD
TZOFFSETFROM:-0400
TZOFFSETTO:-0500
TZNAME:EST
DTSTART:20251102T060000
END:STANDARD
BEGIN:DAYLIGHT
TZOFFSETFROM:-0500
TZOFFSETTO:-0400
TZNAME:EDT
DTSTART:20260308T070000
END:DAYLIGHT
BEGIN:STANDARD
TZOFFSETFROM:-0400
TZOFFSETTO:-0500
TZNAME:EST
DTSTART:20261101T060000
END:STANDARD
END:VTIMEZONE
BEGIN:VEVENT
DTSTART;TZID=America/New_York:20250329T070000
DTEND;TZID=America/New_York:20250330T150000
DTSTAMP:20260422T091153
CREATED:20250306T190405Z
LAST-MODIFIED:20250306T190431Z
UID:21317-1743231600-1743346800@racepenguin.com
SUMMARY:Purdue Boilermaker Omnium
DESCRIPTION:Join the Purdue Cycling Club for two days of heart pounding racing through the streets of West Lafayette! Saturday will consist of a Collegiate Team Time Trial followed by a Road Race with both USAC and Collegiate category waves. Sunday will see riders take on a .85 Mile Criterium course around the Wea Ridge Elementary and Middle School complex. \n\n\n\nFor complete information regarding the Purdue Boilermaker Omnium\, please visit the race website. \n\n\n\n\n\n\n\n\n  – Race Website\n\n\n\n  – Register\n\n\n\n  – Race Results\n\n\n\n\n\n\n\n\nRace registrations are non-refundable and non-transferable.
URL:https://racepenguin.com/events/purdue-boilermaker-omnium/
LOCATION:West Lafayette\, IN\, West Lafayette\, Indiana\, 47909\, United States
CATEGORIES:Criterium,Cycling,Cycling Road Race,Omnium
ATTACH;FMTTYPE=image/webp:https://racepenguin.com/wp-content/uploads/2025/03/Omnium-Promo-2025-Edited.webp
END:VEVENT
END:VCALENDAR