BEGIN:VCALENDAR
VERSION:2.0
PRODID:-//RacePenguin - ECPv6.15.18//NONSGML v1.0//EN
CALSCALE:GREGORIAN
METHOD:PUBLISH
X-ORIGINAL-URL:https://racepenguin.com
X-WR-CALDESC:Events for RacePenguin
REFRESH-INTERVAL;VALUE=DURATION:PT1H
X-Robots-Tag:noindex
X-PUBLISHED-TTL:PT1H
BEGIN:VTIMEZONE
TZID:America/New_York
BEGIN:DAYLIGHT
TZOFFSETFROM:-0500
TZOFFSETTO:-0400
TZNAME:EDT
DTSTART:20240310T070000
END:DAYLIGHT
BEGIN:STANDARD
TZOFFSETFROM:-0400
TZOFFSETTO:-0500
TZNAME:EST
DTSTART:20241103T060000
END:STANDARD
BEGIN:DAYLIGHT
TZOFFSETFROM:-0500
TZOFFSETTO:-0400
TZNAME:EDT
DTSTART:20250309T070000
END:DAYLIGHT
BEGIN:STANDARD
TZOFFSETFROM:-0400
TZOFFSETTO:-0500
TZNAME:EST
DTSTART:20251102T060000
END:STANDARD
BEGIN:DAYLIGHT
TZOFFSETFROM:-0500
TZOFFSETTO:-0400
TZNAME:EDT
DTSTART:20260308T070000
END:DAYLIGHT
BEGIN:STANDARD
TZOFFSETFROM:-0400
TZOFFSETTO:-0500
TZNAME:EST
DTSTART:20261101T060000
END:STANDARD
END:VTIMEZONE
BEGIN:VEVENT
DTSTART;TZID=America/New_York:20250322T120000
DTEND;TZID=America/New_York:20250322T140000
DTSTAMP:20260421T190539
CREATED:20250218T204705Z
LAST-MODIFIED:20250220T221617Z
UID:13156-1742644800-1742652000@racepenguin.com
SUMMARY:Kappa Delta Shamrock 5K
DESCRIPTION:– Register\n\n\n\n – Donate\n\n\n\n – Results\n\n\n\n\n\n\n\n\nGet ready to run\, walk\, and make a difference at Kappa Delta’s Color Run 5K at Three Creeks Metro Park on March 22 at 12:00 PM! This vibrant event isn’t just about fun—it’s about creating a brighter future for children across the country. All proceeds benefit Prevent Child Abuse America (PCAA)\, a nonprofit dedicated to ensuring every child grows up in a safe\, nurturing environment. Whether you’re a competitive runner or just want to enjoy a colorful day with friends\, your participation supports evidence-based programs like home visiting services\, parenting education\, and advocacy efforts that protect children from abuse and neglect. Together\, we can make a lasting impact. Register today and help us build a world where every child can grow up happy\, healthy\, and safe. \n\n\n\n\n\n\n\n\n\nPrice Schedule5KThrough Race Day$25\n\n\n\n\n\nSchedule of Events11:00 am: Race Day Registration and Packet Pickup12:00pm: 5k Race Begin\n\n\n\n\n\nPre-Race Packet Pickup \n\n\n\nMarch 21st: 11:00am – 1:00pm @Kappa Delta Chapter House116 E 15th Ave\, Columbus\, OH 43201\n\n\n\nSWAG \n\n\n\nIf you did not pre-register\, we cannot guarantee we will have a shirt available for you. \n\n\n\n\n\n\n\n\n\n\n\nCourse Map \n\n\n\n\n\n\n\n\n\n\n\n\n – Register\n\n\n\n – Donate\n\n\n\n – Results\n\n\n\n\n\n\n\n\nRace registrations are non-refundable and non-transferable.
URL:https://racepenguin.com/events/kappa-delta-shamrock-5k/
LOCATION:3285 Watkins Rd\, Columbus\, OH 43207\, USA\, 3285 Watkins Rd\, Columbus\, Ohio\, 43207\, United States
CATEGORIES:5k,Color Run,Running
ATTACH;FMTTYPE=image/webp:https://racepenguin.com/wp-content/uploads/2025/02/SHAMROCK-5K.zip-4-1-edited.webp
ORGANIZER;CN="Sigma Kappa":MAILTO:lulumacantrim@gmail.com
END:VEVENT
BEGIN:VEVENT
DTSTART;TZID=America/New_York:20250329T110000
DTEND;TZID=America/New_York:20250329T130000
DTSTAMP:20260421T190539
CREATED:20180126T161247Z
LAST-MODIFIED:20250220T222000Z
UID:5966-1743246000-1743253200@racepenguin.com
SUMMARY:Color Me KD
DESCRIPTION:– Register\n\n\n\n – Donate\n\n\n\n – Results\n\n\n\n\n\n\n\n\nJoin us as we paint the town green (and every other color!) at the 11th annual Shamrock Color Run/Walk 5K\, hosted by the Eta Eta chapter of Kappa Delta Sorority. As participants make their way through England-Idlewild Park in Burlington\, Kentucky on March 29th\, 2025\, they’ll be showered with vibrant color powder at various stations\, creating unforgettable memories while supporting a vital cause.  \n\n\n\nThis family-friendly event raises funds for the prevention of child abuse through our valued partners\, The Family Nurturing Center and Prevent Child Abuse America (PCAA). Since 1981\, Kappa Delta has proudly stood beside PCAA\, raising nearly $33 million to create brighter futures for children across the United States. With your participation\, we can continue making a meaningful difference in the lives of children in our community and nationwide. \n\n\n\nRegister by Midnight on Saturday\, March 12th to get a Race T-shirt! \n\n\n\n \n\n\n\n\n\n\n\n\n\nPrice Schedule5K10 & UnderThrough Race Day$35$25\n\n\n\n\n\nSchedule of Events9:30am: Race Day Registration and Packet Pickup Begins11:00am: 5k Run/Walk Begins12:00pm: Raffle Winners & Awards Ceremony\n\n\n\n\n\nSWAG \n\n\n\n\n\n\n\n \n\n\n\nMap \n\n\n\n\n\n\n\n\n\n\n\n\n – Register\n\n\n\n – Donate\n\n\n\n – Results\n\n\n\n\n\n\n\n\nRace registrations are non-refundable and non-transferable.
URL:https://racepenguin.com/events/colormekd/
LOCATION:England Idlewild Park\, 5550 Idlewild Road\, Burlington\, KY\, 41005\, United States
CATEGORIES:5k,Color Run,Running,Walk
ATTACH;FMTTYPE=image/webp:https://racepenguin.com/wp-content/uploads/2018/01/Shamrock-T-shirt-2025-2.webp
END:VEVENT
END:VCALENDAR