BEGIN:VCALENDAR
VERSION:2.0
PRODID:-//RacePenguin - ECPv6.15.18//NONSGML v1.0//EN
CALSCALE:GREGORIAN
METHOD:PUBLISH
X-ORIGINAL-URL:https://racepenguin.com
X-WR-CALDESC:Events for RacePenguin
REFRESH-INTERVAL;VALUE=DURATION:PT1H
X-Robots-Tag:noindex
X-PUBLISHED-TTL:PT1H
BEGIN:VTIMEZONE
TZID:America/New_York
BEGIN:DAYLIGHT
TZOFFSETFROM:-0500
TZOFFSETTO:-0400
TZNAME:EDT
DTSTART:20250309T070000
END:DAYLIGHT
BEGIN:STANDARD
TZOFFSETFROM:-0400
TZOFFSETTO:-0500
TZNAME:EST
DTSTART:20251102T060000
END:STANDARD
BEGIN:DAYLIGHT
TZOFFSETFROM:-0500
TZOFFSETTO:-0400
TZNAME:EDT
DTSTART:20260308T070000
END:DAYLIGHT
BEGIN:STANDARD
TZOFFSETFROM:-0400
TZOFFSETTO:-0500
TZNAME:EST
DTSTART:20261101T060000
END:STANDARD
BEGIN:DAYLIGHT
TZOFFSETFROM:-0500
TZOFFSETTO:-0400
TZNAME:EDT
DTSTART:20270314T070000
END:DAYLIGHT
BEGIN:STANDARD
TZOFFSETFROM:-0400
TZOFFSETTO:-0500
TZNAME:EST
DTSTART:20271107T060000
END:STANDARD
END:VTIMEZONE
BEGIN:VEVENT
DTSTART;TZID=America/New_York:20260501T180000
DTEND;TZID=America/New_York:20260501T200000
DTSTAMP:20260425T001249
CREATED:20160320T212935Z
LAST-MODIFIED:20260325T171947Z
UID:3426-1777658400-1777665600@racepenguin.com
SUMMARY:Alton Hall Fun Run
DESCRIPTION:– Register\n\n\n\n – Results\n\n\n\n\n\n\n\n\nGrab your running or walking shoes and come join us for a fun night of exercise and community as we celebrate another successful year of Mileage Club at Alton Hall! Students have been training all year for this event and we can’t wait to share it with our families! \n\n\n\n\n\n\n\n\n\nPrice Schedule2 Mile Fun Run – Students2 Mile Fun Run – Non-StudentsUntimed 2 MilerThrough Race DayFree$3.25Free\n\n\n\n\n\nSchedule of Events5:15pm: Race Day Registration and Packet Pickup Begins6:00pm: 2 Mile Fun Run Begins\n\n\n\n\n\n\n\n\n\nCourse Map \n\n\n\n/p>\n\n\n\nParking \n\n\n\nFun-Run-Course_parking-and-race-courseDownload\n\n\n\n\n\n\n\n\n\n\n\n\n – Register\n\n\n\n – Results\n\n\n\n\n\n\n\n\nRace registrations are non-refundable and non-transferable.
URL:https://racepenguin.com/events/altonhallfunrun/
LOCATION:Alton Hall Elementary\, 982 Alton Rd\, Galloway\, OH\, 43119\, United States
CATEGORIES:2 Mile Walk,2 Miler,Kids Race,Running,Walk
ATTACH;FMTTYPE=image/jpeg:https://racepenguin.com/wp-content/uploads/2023/03/logo.jpg
END:VEVENT
END:VCALENDAR